BEGIN:VCALENDAR
VERSION:2.0
PRODID:-//Kreml Kulturhaus - ECPv6.15.19//NONSGML v1.0//EN
CALSCALE:GREGORIAN
METHOD:PUBLISH
X-WR-CALNAME:Kreml Kulturhaus
X-ORIGINAL-URL:https://kreml-kulturhaus.de
X-WR-CALDESC:Veranstaltungen für Kreml Kulturhaus
REFRESH-INTERVAL;VALUE=DURATION:PT1H
X-Robots-Tag:noindex
X-PUBLISHED-TTL:PT1H
BEGIN:VTIMEZONE
TZID:Europe/Berlin
BEGIN:DAYLIGHT
TZOFFSETFROM:+0100
TZOFFSETTO:+0200
TZNAME:CEST
DTSTART:20250330T010000
END:DAYLIGHT
BEGIN:STANDARD
TZOFFSETFROM:+0200
TZOFFSETTO:+0100
TZNAME:CET
DTSTART:20251026T010000
END:STANDARD
BEGIN:DAYLIGHT
TZOFFSETFROM:+0100
TZOFFSETTO:+0200
TZNAME:CEST
DTSTART:20260329T010000
END:DAYLIGHT
BEGIN:STANDARD
TZOFFSETFROM:+0200
TZOFFSETTO:+0100
TZNAME:CET
DTSTART:20261025T010000
END:STANDARD
BEGIN:DAYLIGHT
TZOFFSETFROM:+0100
TZOFFSETTO:+0200
TZNAME:CEST
DTSTART:20270328T010000
END:DAYLIGHT
BEGIN:STANDARD
TZOFFSETFROM:+0200
TZOFFSETTO:+0100
TZNAME:CET
DTSTART:20271031T010000
END:STANDARD
END:VTIMEZONE
BEGIN:VEVENT
DTSTART;TZID=Europe/Berlin:20260530T163000
DTEND;TZID=Europe/Berlin:20260530T163000
DTSTAMP:20260421T143611
CREATED:20260413T105043Z
LAST-MODIFIED:20260415T111829Z
UID:10045518-1780158600-1780158600@kreml-kulturhaus.de
SUMMARY:Kinderkino: Mein Freund Barry
DESCRIPTION:Schweiz 2026 / Regie: Markus Welter / Darst.: Max Urbacher\, Ulrich Tukur\, Carlos Leal / 97 Min / FSK: ohne Altersbeschränkung \nEnde des 18. Jahrhunderts. Der 12-jährige Georg und sein älterer Bruder Alfons\, Kriegswaisen aus der Innerschweiz\, sind auf dem beschwerlichen Weg über den Grossen Sankt Bernhard und wollen in Italien ihr Glück suchen. Als Georg krank wird\, lässt Alfons ihn im Hospiz zurück. Dort kämpft Georg gegen die Vorurteile der Novizen\, insbesondere des Anführers Célestin. Eine zarte Freundschaft mit Resi\, der Tochter des Hundeführers\, hilft ihm\, seine Schüchternheit zu überwinden. Georg päppelt heimlich einen schwächlichen Welpen namens Barry auf. Doch als Célestin ihn verrät\, muss Georg vor dem Prior um seine Zukunft kämpfen und erhält eine letzte Chance. \nDie Schweizer Produktion „Mein Freund Barry“ erzählt von einem echten Hund\, aber im Rahmen einer fiktiven Geschichte. Es ist die Geschichte des Bernhardiners Barry\, der in einem Hospiz lebte und im Lauf seines Lebens mehr als 40 Menschen nach Lawinenabgängen gerettet hat. Im Film ist er auch ein Held\, um ihn herum wird jedoch eine hübsche kleine Geschichte um einen Jungen gesponnen\, der eine besondere Beziehung zu Barry hat. \n \nKurzfilm für Kinder\n1.5. – 3.6. ATHLETICUS: PARKOUR – Frankreich 2020 – 2 min 22\nDer Papageientaucher verpasst den Bus… und jetzt? \nHinweis: Einige Filme sind ein Kinoabenteuer für die ganze Familie OBWOHL DIESE AB 12 JAHREN SIND!\nDIE LÖSUNG: Kinder zwischen 6 und 11 Jahren dürfen Filme bei uns sehen\, wenn diese frei ab 12 Jahren sind. VORAUSSETZUNG: sie müssen in Begleitung eines Elternteils oder einer volljährigen erziehungsbeauftragten Person sein! \n  \n\n\nTRANSLATE with  x\n\n\n  English \n\n\n\n\n\n\nArabic\nHebrew\nPolish\n\n\nBulgarian\nHindi\nPortuguese\n\n\nCatalan\nHmong Daw\nRomanian\n\n\nChinese Simplified\nHungarian\nRussian\n\n\nChinese Traditional\nIndonesian\nSlovak\n\n\nCzech\nItalian\nSlovenian\n\n\nDanish\nJapanese\nSpanish\n\n\nDutch\nKlingon\nSwedish\n\n\nEnglish\nKorean\nThai\n\n\nEstonian\nLatvian\nTurkish\n\n\nFinnish\nLithuanian\nUkrainian\n\n\nFrench\nMalay\nUrdu\n\n\nGerman\nMaltese\nVietnamese\n\n\nGreek\nNorwegian\nWelsh\n\n\nHaitian Creole\nPersian\n\n\n\n\n \n\n\n\n\n \n\n      \n\n\nTRANSLATE with \n\n COPY THE URL BELOW \n   \n   Back\n   \n\n\nEMBED THE SNIPPET BELOW IN YOUR SITE  \n\nEnable collaborative features and customize widget: Bing Webmaster Portal\nBack
URL:https://kreml-kulturhaus.de/veranstaltung/kinderkino-mein-freund-barry/
LOCATION:Kinosaal
CATEGORIES:Kino
ATTACH;FMTTYPE=image/jpeg:https://kreml-kulturhaus.de/wp-content/uploads/2026/04/web_freund_berry.jpg
GEO:51.165691;10.451526
END:VEVENT
END:VCALENDAR