BEGIN:VCALENDAR
VERSION:2.0
PRODID:-//Kreml Kulturhaus - ECPv6.15.19//NONSGML v1.0//EN
CALSCALE:GREGORIAN
METHOD:PUBLISH
X-WR-CALNAME:Kreml Kulturhaus
X-ORIGINAL-URL:https://kreml-kulturhaus.de
X-WR-CALDESC:Veranstaltungen für Kreml Kulturhaus
REFRESH-INTERVAL;VALUE=DURATION:PT1H
X-Robots-Tag:noindex
X-PUBLISHED-TTL:PT1H
BEGIN:VTIMEZONE
TZID:Europe/Berlin
BEGIN:DAYLIGHT
TZOFFSETFROM:+0100
TZOFFSETTO:+0200
TZNAME:CEST
DTSTART:20250330T010000
END:DAYLIGHT
BEGIN:STANDARD
TZOFFSETFROM:+0200
TZOFFSETTO:+0100
TZNAME:CET
DTSTART:20251026T010000
END:STANDARD
BEGIN:DAYLIGHT
TZOFFSETFROM:+0100
TZOFFSETTO:+0200
TZNAME:CEST
DTSTART:20260329T010000
END:DAYLIGHT
BEGIN:STANDARD
TZOFFSETFROM:+0200
TZOFFSETTO:+0100
TZNAME:CET
DTSTART:20261025T010000
END:STANDARD
BEGIN:DAYLIGHT
TZOFFSETFROM:+0100
TZOFFSETTO:+0200
TZNAME:CEST
DTSTART:20270328T010000
END:DAYLIGHT
BEGIN:STANDARD
TZOFFSETFROM:+0200
TZOFFSETTO:+0100
TZNAME:CET
DTSTART:20271031T010000
END:STANDARD
END:VTIMEZONE
BEGIN:VEVENT
DTSTART;TZID=Europe/Berlin:20260525T110000
DTEND;TZID=Europe/Berlin:20260525T110000
DTSTAMP:20260419T160959
CREATED:20260413T112415Z
LAST-MODIFIED:20260413T112415Z
UID:10045591-1779706800-1779706800@kreml-kulturhaus.de
SUMMARY:KinoMatinée mit Frühstück & Film an Pfingstmontag: Horst Schlämmer sucht das Glück
DESCRIPTION:Horst Schlämmer hat die Faxen dicke: Die Preise steigen\, die Stimmung sinkt\, die Kneipen schließen. Kurzum: Deutschland hat Rücken! Und zwar im Gesicht. Also geht der stellvertretende Chefredakteur des „Grevenbroicher Tagblatt“ auf eine große Reise mit noch größerem Ziel: Er will den Leuten ihr Lächeln wieder zurückbringen. Doch wie wird man glücklich. Schwere Zeiten verlangen nach klaren Antworten – und weil man die in Grevenbroich nicht finden kann\, begibt sich Horst Schlämmer auf die Reise seines Lebens. Von Süddeutschland bis Sylt\, von Büsum bis Berlin – per Anhalter\, Krabbenkutter oder Schienenersatzverkehr. Er trifft Passanten\, Promis und Psychologen\, fragt knallhart nach und verliert\, trotz vieler Rückschläge\, nie seine Mission aus den Augen: Die Menschen wieder glücklich zu machen. \nNach dem Rücken ist vor dem Rücken. Kaum hat er mit „Extrawurst“ und über 1 Million Besucher in den deutschsprachigen Kinos seine Beliebtheit unter Beweis gestellt\, kommt Hape Kerkeling mit seiner Kultfigur Horst Schlämmer auf die Leinwand – der Filmtitel lautet bezeichnenderweise ‘Horst Schlämmer sucht das Glück‘ (Deutschland 2026 / Regie: Sven Unterwaldt / Darst.: Hape Kerkeling\, Tahnee Schaffarczy\, Laura Thomas\, Meltem Kaptan / 93 Min. / FSK: ab 6 Jahren). Wie es sich für einen Journalisten alter Schule gehört\, will Schlämmer den Glücksindex der Republik investigativ erkunden. Filmisch begleitet wird die Mission von der jungen Social-Media-Redakteurin Anna. „Das wird großes Kino. Ganz großes Kino!“ verspricht der nuschelnde Held im Trenchcoat. Eine situationskomische Pointen-Parade mit witzigen Horst-Weisheiten.\nUnd vor dem Film besteht wie immer die Möglichkeit zum ausgiebigen Frühstück im Kreml-Café. \nPFINGST-MO  25.5.\, 11.00 Uhr\, Kulturcafé / Kinosaal/ Filmstart: 13.00 Uhr\nEintritt: Film: 8\,00 EUR\, Frühstück: ab 8\,90 EUR (à la Carte)\nReservierung: unter Fon 06430-929720\, KremlCafé oder Mail: cafe@kreml-kulturhaus.de\nHinweis: Weitere Vorstellungen in der Zeit vom 24.5. bis 7.6.
URL:https://kreml-kulturhaus.de/veranstaltung/kinomatinee-mit-fruehstueck-film-an-pfingstmontag-horst-schlaemmer-sucht-das-glueck/
LOCATION:Kinosaal
CATEGORIES:Café,Kino,Kultur
ATTACH;FMTTYPE=image/jpeg:https://kreml-kulturhaus.de/wp-content/uploads/2026/04/web_horst_schlaemmer.jpg
GEO:51.165691;10.451526
END:VEVENT
END:VCALENDAR